BEGIN:VCALENDAR
VERSION:2.0
PRODID:-//Stratis iCal API//FR
CALSCALE:GREGORIAN
X-WR-CALNAME:Soirée jeu
BEGIN:VEVENT
UID:event-2089
SUMMARY:Soirée jeu
DESCRIPTION:- Soirée jeu Loup Garou  - entrée gratuite / sur inscription ( en mairie ou par mail )  - à partir de 12ans   - à la Médiathèque de Thélus     
DTSTAMP:20260417T095346Z
DTSTART:20260421T170000Z
DTEND:20260421T170000Z
STATUS:CONFIRMED
SEQUENCE:1
BEGIN:VALARM
TRIGGER:-PT30M
DESCRIPTION:Soirée jeu
ACTION:DISPLAY
END:VALARM
END:VEVENT
END:VCALENDAR