BEGIN:VCALENDAR
VERSION:2.0
PRODID:-//Stratis iCal API//FR
CALSCALE:GREGORIAN
X-WR-CALNAME:La Chorale a 25ans !
BEGIN:VEVENT
UID:event-2078
SUMMARY:La Chorale a 25ans !
DESCRIPTION:Concert annuel sur le thème des Prénoms avec la collaboration  d'Antoine Pontus  chanteur soliste  - sur place : buvette  petite restauration  - espace les 3 rivières  
DTSTAMP:20260417T085708Z
DTSTART:20260425T170000Z
DTEND:20260425T170000Z
STATUS:CONFIRMED
SEQUENCE:1
BEGIN:VALARM
TRIGGER:-PT30M
DESCRIPTION:La Chorale a 25ans !
ACTION:DISPLAY
END:VALARM
END:VEVENT
END:VCALENDAR