BEGIN:VCALENDAR
VERSION:2.0
PRODID:-//Stratis iCal API//FR
CALSCALE:GREGORIAN
X-WR-CALNAME:La Course du Sucre 
BEGIN:VEVENT
UID:event-2077
SUMMARY:La Course du Sucre 
DESCRIPTION:15ème édition de la Course du Sucre   
DTSTAMP:20260417T084919Z
DTSTART:20260425T220000Z
DTEND:20260425T220000Z
STATUS:CONFIRMED
SEQUENCE:1
BEGIN:VALARM
TRIGGER:-PT30M
DESCRIPTION:La Course du Sucre 
ACTION:DISPLAY
END:VALARM
END:VEVENT
END:VCALENDAR