BEGIN:VCALENDAR
VERSION:2.0
PRODID:-//Stratis iCal API//FR
CALSCALE:GREGORIAN
X-WR-CALNAME:Le Rotary Arras Coeur d’Artois 
BEGIN:VEVENT
UID:event-2069
SUMMARY:Le Rotary Arras Coeur d’Artois 
DESCRIPTION:Le Rotary Arras Cœur d’Artois fait son cirque pour la bonne cause  - Un événement solidaire  - Entrée : 15€. Gratuit -12 ans  - Deux représentations : 17h30 & 20h  - En partenariat avec La Compagnie Bruit de Couloir    
DTSTAMP:20260417T075012Z
DTSTART:20260425T153000Z
DTEND:20260425T153000Z
STATUS:CONFIRMED
SEQUENCE:1
BEGIN:VALARM
TRIGGER:-PT30M
DESCRIPTION:Le Rotary Arras Coeur d’Artois 
ACTION:DISPLAY
END:VALARM
END:VEVENT
END:VCALENDAR