BEGIN:VCALENDAR
VERSION:2.0
PRODID:-//Stratis iCal API//FR
CALSCALE:GREGORIAN
X-WR-CALNAME:Atelier mieux dormir 
BEGIN:VEVENT
UID:event-2064
SUMMARY:Atelier mieux dormir 
DESCRIPTION:Atelier d'astuces et de conseils pour mieux dormir.   - gratuit   - Réservé aux +60 ans   - 15 places maximum   - Inscription : 06 50 05 07 68
DTSTAMP:20260416T143532Z
DTSTART:20260423T123000Z
DTEND:20260423T123000Z
STATUS:CONFIRMED
SEQUENCE:14
BEGIN:VALARM
TRIGGER:-PT30M
DESCRIPTION:Atelier mieux dormir 
ACTION:DISPLAY
END:VALARM
END:VEVENT
END:VCALENDAR