BEGIN:VCALENDAR
VERSION:2.0
PRODID:-//Stratis iCal API//FR
CALSCALE:GREGORIAN
X-WR-CALNAME:Clusius fait sa Grande Lessive
BEGIN:VEVENT
UID:event-2059
SUMMARY:Clusius fait sa Grande Lessive
DESCRIPTION:
DTSTAMP:20260416T092659Z
DTSTART:20260422T130000Z
DTEND:20260422T163000Z
STATUS:CONFIRMED
SEQUENCE:1
BEGIN:VALARM
TRIGGER:-PT30M
DESCRIPTION:Clusius fait sa Grande Lessive
ACTION:DISPLAY
END:VALARM
END:VEVENT
END:VCALENDAR