BEGIN:VCALENDAR
VERSION:2.0
PRODID:-//Stratis iCal API//FR
CALSCALE:GREGORIAN
X-WR-CALNAME:Les P'tits Yeux
BEGIN:VEVENT
UID:event-2053
SUMMARY:Les P'tits Yeux
DESCRIPTION:
DTSTAMP:20260416T090844Z
DTSTART:20260424T180000Z
DTEND:20260424T200000Z
STATUS:CONFIRMED
SEQUENCE:1
BEGIN:VALARM
TRIGGER:-PT30M
DESCRIPTION:Les P'tits Yeux
ACTION:DISPLAY
END:VALARM
END:VEVENT
END:VCALENDAR